BEGIN:VCALENDAR
VERSION:2.0
PRODID:-//wp-events-plugin.com//7.2.2.1//EN
TZID:America/Vancouver
X-WR-TIMEZONE:America/Vancouver
BEGIN:VEVENT
UID:1232@nanaimomuseum.ca
DTSTART;TZID=America/Vancouver:20251115T120000
DTEND;TZID=America/Vancouver:20251115T150000
DTSTAMP:20251119T212511Z
URL:https://nanaimomuseum.ca/events/metis-heritage-celebration-2025/
SUMMARY:Métis Heritage Celebration
DESCRIPTION:Saturday\, November 15 | 12:00pm - 3:00pm\nThe Mid-Island Méti
 s Nation and the Nanaimo Museum invite you to join us to celebrate Métis 
 heritage!\n\nOn Saturday\, November 15th from 12:00-3:00pm\, visit the Nan
 aimo Museum gallery to enjoy the festivities including fiddle music\, hist
 ory information\, genealogy with Genealogist Stan Hulme\, storytelling\, i
 nformation tables &amp\; displays\, a reading corner and more!\n\nThere wi
 ll also be a special recognition of the contributions of the late Elder Ma
 rgaret Sloan during the event.\n\nThe event begins at 12:00pm and the acti
 vities will run until 3:00pm. Hope to see you there!\n\n
ATTACH;FMTTYPE=image/jpeg:https://nanaimomuseum.ca/wp-content/uploads/2019
 /10/Métis-Heritage-Celebration-Square.png
CATEGORIES:Adult/Teen,Children,Family
LOCATION:Nanaimo Museum\, 100 Museum Way\, Nanaimo\, BC\, V9R 5J8\, Downtow
 n\, Canada
GEO:49.165002;-123.936467
X-APPLE-STRUCTURED-LOCATION;VALUE=URI;X-ADDRESS=100 Museum Way\, Nanaimo\, 
 BC\, V9R 5J8\, Downtown\, Canada;X-APPLE-RADIUS=100;X-TITLE=Nanaimo Museum
 :geo:49.165002,-123.936467
END:VEVENT
BEGIN:VTIMEZONE
TZID:America/Vancouver
X-LIC-LOCATION:America/Vancouver
BEGIN:STANDARD
DTSTART:20251102T010000
TZOFFSETFROM:-0700
TZOFFSETTO:-0800
TZNAME:PST
END:STANDARD
END:VTIMEZONE
END:VCALENDAR