BEGIN:VCALENDAR
VERSION:2.0
PRODID:-//wp-events-plugin.com//7.2.2.1//EN
TZID:America/Vancouver
X-WR-TIMEZONE:America/Vancouver
BEGIN:VEVENT
UID:1224@nanaimomuseum.ca
DTSTART;TZID=America/Vancouver:20250614T100000
DTEND;TZID=America/Vancouver:20250906T160000
DTSTAMP:20250623T141331Z
URL:https://nanaimomuseum.ca/events/i-spy-trackway-hunters/
SUMMARY:I Spy: Trackway Hunters
DESCRIPTION:Ready to explore the Dinosaurs of BC travelling exhibit? On you
 r way in\, pick up the Trackway Hunter's worksheet and record all of the u
 nique dinosaur tracks that you can find! Can you find and draw all 6?\n\nT
 his activity is part of the feature exhibit and is free with admission! Ru
 ns until September 6th.
ATTACH;FMTTYPE=image/jpeg:https://nanaimomuseum.ca/wp-content/uploads/2025
 /06/TrackwayHunters2025-scaled-e1750687994261.jpg
CATEGORIES:Adult/Teen,Children,Family
LOCATION:Nanaimo Museum\, 100 Museum Way\, Nanaimo\, BC\, V9R 5J8\, Downtow
 n\, Canada
GEO:49.165002;-123.936467
X-APPLE-STRUCTURED-LOCATION;VALUE=URI;X-ADDRESS=100 Museum Way\, Nanaimo\, 
 BC\, V9R 5J8\, Downtown\, Canada;X-APPLE-RADIUS=100;X-TITLE=Nanaimo Museum
 :geo:49.165002,-123.936467
END:VEVENT
BEGIN:VTIMEZONE
TZID:America/Vancouver
X-LIC-LOCATION:America/Vancouver
BEGIN:DAYLIGHT
DTSTART:20250309T030000
TZOFFSETFROM:-0800
TZOFFSETTO:-0700
TZNAME:PDT
END:DAYLIGHT
END:VTIMEZONE
END:VCALENDAR