BEGIN:VCALENDAR
VERSION:2.0
PRODID:-//wp-events-plugin.com//7.2.2.1//EN
TZID:America/Vancouver
X-WR-TIMEZONE:America/Vancouver
BEGIN:VEVENT
UID:1220@nanaimomuseum.ca
DTSTART;TZID=America/Vancouver:20250607T100000
DTEND;TZID=America/Vancouver:20250906T160000
DTSTAMP:20250623T141703Z
URL:https://nanaimomuseum.ca/events/i-spy-dinosaurs/
SUMMARY:I-Spy: Dinosaurs
DESCRIPTION:“Life\, uh\, finds a way\,” and these darling dinos have fo
 und their way into our hearts\, and our main exhibits! Can you spot all 12
  dinosaurs roaming the museum display cases?\nI-Spy: Dinos is on from June
  7 through September 6\, and is part of Hot Dino Summer\, inspired by Dino
 saurs of BC\, a travelling exhibit from the Royal BC Museum. This I-Spy is
  fun for all ages and is included with admission by donation.
ATTACH;FMTTYPE=image/jpeg:https://nanaimomuseum.ca/wp-content/uploads/2025
 /05/Dinos_-_I_Spy_Square-1.png
CATEGORIES:Children,Family
LOCATION:Nanaimo Museum\, 100 Museum Way\, Nanaimo\, BC\, V9R 5J8\, Downtow
 n\, Canada
X-APPLE-STRUCTURED-LOCATION;VALUE=URI;X-ADDRESS=100 Museum Way\, Nanaimo\, 
 BC\, V9R 5J8\, Downtown\, Canada;X-APPLE-RADIUS=100;X-TITLE=Nanaimo Museum
 :geo:0,0
END:VEVENT
BEGIN:VTIMEZONE
TZID:America/Vancouver
X-LIC-LOCATION:America/Vancouver
BEGIN:DAYLIGHT
DTSTART:20250309T030000
TZOFFSETFROM:-0800
TZOFFSETTO:-0700
TZNAME:PDT
END:DAYLIGHT
END:VTIMEZONE
END:VCALENDAR