BEGIN:VCALENDAR
VERSION:2.0
PRODID:-//wp-events-plugin.com//7.2.2.1//EN
TZID:America/Vancouver
X-WR-TIMEZONE:America/Vancouver
BEGIN:VEVENT
UID:1215@nanaimomuseum.ca
DTSTART;TZID=America/Vancouver:20250627T100000
DTEND;TZID=America/Vancouver:20250901T160000
DTSTAMP:20250908T185552Z
URL:https://nanaimomuseum.ca/events/dinosummer/
SUMMARY:Hot Dino Summer
DESCRIPTION:It’s Hot Dino Summer at Nanaimo Museum!\nThere are so many di
 no-themed activities here at the museum while the Dinosaurs of BC exhibit 
 is on display! Tuesdays through Sundays\, play I Spy: Dinosaurs or Trackwa
 y Hunters\, learn to Move like a Dinosaur\, hop along a dino hopscotch\, a
 nd meet Buster\, BC’s Dinosaur!\nOn Saturdays\, Sundays\, and Stat holid
 ays\, come out for Dino Dig Days! Sift through kinetic sand to find shells
 \, replica dinosaur fossils\, and even coal! Exchange your finds for a din
 osaur-themed prize to take home. (Just like a real paleontologist\, everyt
 hing you dig up must stay at the museum!)\nHot Dino Summer is fun for all 
 ages\, and available from 10am-4pm Tues-Sun from June 27-Sept 1 &amp\; 10a
 m-9pm on Thursdays. Dino Dig Days is fun for ages 3+ and is available 10am
 -4pm Saturdays\, Sundays\, and Stat holidays. Admission is by donation. Su
 mmer camps can book a museum visit or Dino Dig program by contacting Steph
  Kveton\, program coordinator: (program@nanaimomuseum.ca)\n\nHere's all th
 e awesome dinosaur-themed things happening at the museum this summer:\n\n 
 	Dinosaurs of BC - Feature Exhibit - (Tuesday-Sunday 10am-4pm +Stats) - Ju
 ne 7th to September 6th\n 	I-Spy: Dinosaurs  - (Tuesday-Sunday 10am-4pm +
 Stats) - June 7th to September 6th\n 	Dinos at the Night Market (Thursdays
  from 5pm-9pm) - Last one Thursday\, August 28th!\n 	Dino Dig Days - (Satu
 rdays\, Sundays &amp\; Stats from 10am-4pm) - starts Saturday\, June 28th!
 \n 	Trackway Hunters I-Spy - (Tuesday-Sunday 10am-4pm +Stats) - June 7th t
 o September 6th\n\n&nbsp\;
ATTACH;FMTTYPE=image/jpeg:https://nanaimomuseum.ca/wp-content/uploads/2025
 /05/Hot_Dino_Summer_-_Square.jpg
CATEGORIES:Adult/Teen,Children,Family
LOCATION:Nanaimo Museum\, 100 Museum Way\, Nanaimo\, BC\, V9R 5J8\, Downtow
 n\, Canada
GEO:49.165002;-123.936467
X-APPLE-STRUCTURED-LOCATION;VALUE=URI;X-ADDRESS=100 Museum Way\, Nanaimo\, 
 BC\, V9R 5J8\, Downtown\, Canada;X-APPLE-RADIUS=100;X-TITLE=Nanaimo Museum
 :geo:49.165002,-123.936467
END:VEVENT
BEGIN:VTIMEZONE
TZID:America/Vancouver
X-LIC-LOCATION:America/Vancouver
BEGIN:DAYLIGHT
DTSTART:20250309T030000
TZOFFSETFROM:-0800
TZOFFSETTO:-0700
TZNAME:PDT
END:DAYLIGHT
END:VTIMEZONE
END:VCALENDAR