BEGIN:VCALENDAR
VERSION:2.0
PRODID:-//wp-events-plugin.com//7.2.2.1//EN
TZID:America/Vancouver
X-WR-TIMEZONE:America/Vancouver
BEGIN:VEVENT
UID:1222@nanaimomuseum.ca
DTSTART;TZID=America/Vancouver:20250619T170000
DTEND;TZID=America/Vancouver:20250828T210000
DTSTAMP:20250718T222656Z
URL:https://nanaimomuseum.ca/events/csnm2025/
SUMMARY:Commercial Street Night Market
DESCRIPTION:Dino Market Nights!\nAdmission is free during the Commercial St
 reet Night Markets from June 19th - August 28th from 5pm - 9pm! Stop by an
 d collect your Dino Days passport and collect stamps for participating in 
 the activities each week.\n\nEvery Thursday during the Night Market\, the 
 following activities will be available at our booth:\n\n 	Triceratoss: Try
  the triceratops ring toss and see how many rings you can score!\n 	Dino F
 eet Hopscotch: Head inside the museum gallery to conquer the dino hopscotc
 h!\n 	Prize Wheel: Give the prize wheel one spin and see what you get. You
  always win!\n 	+ Weekly rotating activities! Check back each week for a f
 un new dino-themed activity.\n\nNight Market Dates:\n\nJune 19\, June 26\n
 July 3\, July 10\, July 17\, July 24\, July 31\nAugust 7\, August 14\, Aug
 ust 21\, August 28
ATTACH;FMTTYPE=image/jpeg:https://nanaimomuseum.ca/wp-content/uploads/2025
 /05/NightMarket_MainGraphic.jpg
CATEGORIES:Adult/Teen,Children,Family
LOCATION:Nanaimo Museum\, Nanaimo Museum\, Nanaimo\, British Columbia\, V9R
  5JB\, Downtown\, Canada
X-APPLE-STRUCTURED-LOCATION;VALUE=URI;X-ADDRESS=Nanaimo Museum\, Nanaimo\, 
 British Columbia\, V9R 5JB\, Downtown\, Canada;X-APPLE-RADIUS=100;X-TITLE=
 Nanaimo Museum:geo:0,0
END:VEVENT
BEGIN:VTIMEZONE
TZID:America/Vancouver
X-LIC-LOCATION:America/Vancouver
BEGIN:DAYLIGHT
DTSTART:20250309T030000
TZOFFSETFROM:-0800
TZOFFSETTO:-0700
TZNAME:PDT
END:DAYLIGHT
END:VTIMEZONE
END:VCALENDAR