BEGIN:VCALENDAR
VERSION:2.0
PRODID:-//wp-events-plugin.com//7.2.2.1//EN
TZID:America/Vancouver
X-WR-TIMEZONE:America/Vancouver
BEGIN:VEVENT
UID:1237@nanaimomuseum.ca
DTSTART;TZID=America/Vancouver:20260509T130000
DTEND;TZID=America/Vancouver:20260509T140000
DTSTAMP:20260319T201012Z
URL:https://nanaimomuseum.ca/events/crafternoon-bhangra-dance-2026/
SUMMARY:Bhangra Saap & Khunda Dance - Crafternoon Series May 9
DESCRIPTION:Date: Saturday\, May 9\, 2026\nTime:  1:00-2:00pm (1 hour)\nTi
 ckets: $25/person\, ages 13+\nCelebrate Asian Heritage Month with Vancouve
 r Island Bhangra and the Nanaimo Museum!\nJoin us for a high-energy Bhang
 ra Saap &amp\; Khunda Dance Crafternoon led by Sukhi Sangha of Vancouver I
 sland Bhangra. Presented in partnership with the Nanaimo Museum's Craftern
 oon Series\, this vibrant workshop is a fun and engaging way to celebrate 
 Asian Heritage Month through dance\, music\, and culture. This event is op
 en to everyone!\n\nExplore the rhythms and roots of Bhangra\, a tradition
 al folk dance from Punjab. You’ll learn foundational Bhangra steps and h
 ow to dance with two iconic props:\n\n 	Saap: a rhythmic\, folding wooden
  instrument that adds percussive energy and visual flair.\n 	Khunda: a lo
 ng\, decorative bamboo stick skillfully spun and maneuvered for dramatic e
 ffect.\n\nWhether you're new to Bhangra or have dance experience\, this Cr
 afternoon welcomes all skill levels and offers a joyful\, culturally rich 
 experience.\nOpen to ages 13 and up. Space is limited – don’t miss you
 r chance to dance\, learn\, and celebrate together!\nTickets cost $25/pers
 on\, and pre-registration is required. Tickets are non-refundable and non-
 transferable to other dates or programs. A minimum of 4 is required for th
 is program to proceed.\nPLEASE NOTE: Although online payment is made throu
 gh PayPal\, a PayPal account is not required\, only a credit card or debit
  card. Please note that no physical ticket will be issued. Your spot in th
 is tour is confirmed once you have the PayPal transaction confirmation. Re
 gistration can also be made over the phone or in person. \nIf you wish to
  book more than 4 tickets together\, please call the front desk during bus
 iness hours (10-4\, Tues-Sat): 250-753-1821.\n\nInstructor: Sukhi Sangha\n
 [caption id="attachment_31440" align="alignleft" width="200"] Credit: Barb
 ara Anne Photography\; Sukhi Sangha[/caption]\n\nSukhi Sangha is a respect
 ed cultural leader\, professional Bhangra artist\, international dance adj
 udicator\, and community educator with over two decades of experience in d
 ance and cultural programming. Recognized for her contributions to Nanaimo
 's cultural landscape\, she received the 2024 Honour in Culture Award from
  Local Government and was named one of Nanaimo's Women of Influence in Art
 s &amp\; Culture in 2025.\n\nShe is the Founder and President of Rang Sout
 h Asian Arts and Culture Society\, where she leads initiatives that celebr
 ate\, preserve\, and share South Asian arts through performance\, educatio
 n\, and community collaboration. Sukhi is also the founder of Vancouver Is
 land Bhangra\, and is known for her dynamic teaching style\, cultural auth
 enticity\, and ability to create welcoming\, inclusive spaces through danc
 e.\n\nBorn and raised in North Delta\, Sukhi has shared Bhangra on interna
 tional stages and at grassroots cultural events alike\, with her work span
 ning British Columbia and Europe. Through performances\, adjudication\, an
 d fitness-based programming\, she has inspired participants of all ages an
 d backgrounds. Since relocating to Nanaimo in 2021\, Sukhi has become a le
 ading voice in South Asian arts on Vancouver Island. She serves as a volun
 teer board member with Crimson Coast Dance Society\, supporting multicultu
 ral initiatives\, and leads popular Bhangra fitness classes with the City 
 of Nanaimo\, where she blends traditional movement with accessible\, joyfu
 l wellness practices.\n\nSukhi's performance career includes competing acr
 oss North America with the Jawani Girls Bhangra Team and a featured solo p
 erformance on Poland's Got Talent. Deeply rooted in cultural pride and co
 mmunity connection\, Sukhi continues to champion unity\, representation\, 
 and the transformative power of dance through her teaching\, adjudication\
 , and leadership.
ATTACH;FMTTYPE=image/jpeg:https://nanaimomuseum.ca/wp-content/uploads/2026
 /03/May-9-2026-Web-Graphic.jpg
CATEGORIES:Adult/Teen
LOCATION:Nanaimo Museum\, 100 Museum Way\, Nanaimo\, BC\, V9R 5J8\, Downtow
 n\, Canada
GEO:49.165002;-123.936467
X-APPLE-STRUCTURED-LOCATION;VALUE=URI;X-ADDRESS=100 Museum Way\, Nanaimo\, 
 BC\, V9R 5J8\, Downtown\, Canada;X-APPLE-RADIUS=100;X-TITLE=Nanaimo Museum
 :geo:49.165002,-123.936467
END:VEVENT
BEGIN:VTIMEZONE
TZID:America/Vancouver
X-LIC-LOCATION:America/Vancouver
BEGIN:DAYLIGHT
DTSTART:20260308T030000
TZOFFSETFROM:-0800
TZOFFSETTO:-0700
TZNAME:PDT
END:DAYLIGHT
END:VTIMEZONE
END:VCALENDAR