BEGIN:VCALENDAR
VERSION:2.0
PRODID:-//wp-events-plugin.com//7.2.2.1//EN
TZID:America/Vancouver
X-WR-TIMEZONE:America/Vancouver
BEGIN:VEVENT
UID:1137@nanaimomuseum.ca
DTSTART;TZID=America/Vancouver:20230701T000000
DTEND;TZID=America/Vancouver:20230904T000000
DTSTAMP:20230519T221128Z
URL:https://nanaimomuseum.ca/events/bastion-2023/
SUMMARY:Bastion 2023
DESCRIPTION:Bastion Summer Schedule\nThe Bastion will be open for the summe
 r season from Canada Day - Labour Day (July 1 - September 5\, 2023)! Come 
 and visit us from 11:00am - 3:30pm on Saturdays\, Sundays and Stat holiday
 s to learn more about this iconic Nanaimo landmark.\n\nYou can also check 
 out our official Bastion page for an overview of the Bastion and what you 
 can find there!
ATTACH;FMTTYPE=image/jpeg:https://nanaimomuseum.ca/wp-content/uploads/2023
 /05/Bastion-from-Street-copy2.jpg
LOCATION:The Bastion\, 94 Front Street\, Nanaimo\, BC\, Canada
GEO:49.1671784;-123.93561499999998
X-APPLE-STRUCTURED-LOCATION;VALUE=URI;X-ADDRESS=94 Front Street\, Nanaimo\,
  BC\, Canada;X-APPLE-RADIUS=100;X-TITLE=The Bastion:geo:49.1671784,-123.93
 561499999998
END:VEVENT
BEGIN:VTIMEZONE
TZID:America/Vancouver
X-LIC-LOCATION:America/Vancouver
BEGIN:DAYLIGHT
DTSTART:20230312T030000
TZOFFSETFROM:-0800
TZOFFSETTO:-0700
TZNAME:PDT
END:DAYLIGHT
END:VTIMEZONE
END:VCALENDAR