BEGIN:VCALENDAR
VERSION:2.0
PRODID:-//wp-events-plugin.com//7.2.2.1//EN
TZID:America/Vancouver
X-WR-TIMEZONE:America/Vancouver
BEGIN:VEVENT
UID:1212@nanaimomuseum.ca
DTSTART;TZID=America/Vancouver:20250506T170000
DTEND;TZID=America/Vancouver:20250506T180000
DTSTAMP:20250508T205755Z
URL:https://nanaimomuseum.ca/events/agm-2025/
SUMMARY:AGM 2025
DESCRIPTION:Nanaimo Museum AGM\nJoin us for our in-person Annual General Me
 eting at 5pm on Tuesday\, May 6\, 2025.\nThe Nanaimo Museum is holding our
  Annual General Meeting in-person here in the museum gallery at 5:00pm on 
 May 6\, 2025. Voting members are encouraged to attend\, and light refreshm
 ents will be served. Guests are welcome\, but only up-to-date members (as 
 of Apr 15) are eligible to vote!\n\nPlease RSVP below so we can sort out t
 he numbers for refreshments.\n\nThank you\, and we look forward to seeing 
 you at the AGM!\n\n~The Nanaimo Museum Team
ATTACH;FMTTYPE=image/jpeg:https://nanaimomuseum.ca/wp-content/uploads/2020
 /09/agm_post_it.jpg
LOCATION:Nanaimo Museum\, 100 Museum Way\, Nanaimo\, BC\, V9R 5J8\, Downtow
 n\, Canada
GEO:49.165002;-123.936467
X-APPLE-STRUCTURED-LOCATION;VALUE=URI;X-ADDRESS=100 Museum Way\, Nanaimo\, 
 BC\, V9R 5J8\, Downtown\, Canada;X-APPLE-RADIUS=100;X-TITLE=Nanaimo Museum
 :geo:49.165002,-123.936467
END:VEVENT
BEGIN:VTIMEZONE
TZID:America/Vancouver
X-LIC-LOCATION:America/Vancouver
BEGIN:DAYLIGHT
DTSTART:20250309T030000
TZOFFSETFROM:-0800
TZOFFSETTO:-0700
TZNAME:PDT
END:DAYLIGHT
END:VTIMEZONE
END:VCALENDAR